BEGIN:VCALENDAR
VERSION:2.0
PRODID:-//Whispering Oaks - ECPv6.15.20//NONSGML v1.0//EN
CALSCALE:GREGORIAN
METHOD:PUBLISH
X-ORIGINAL-URL:https://www.mywhisperingoaks.org
X-WR-CALDESC:Events for Whispering Oaks
REFRESH-INTERVAL;VALUE=DURATION:PT1H
X-Robots-Tag:noindex
X-PUBLISHED-TTL:PT1H
BEGIN:VTIMEZONE
TZID:America/Chicago
BEGIN:DAYLIGHT
TZOFFSETFROM:-0600
TZOFFSETTO:-0500
TZNAME:CDT
DTSTART:20250309T080000
END:DAYLIGHT
BEGIN:STANDARD
TZOFFSETFROM:-0500
TZOFFSETTO:-0600
TZNAME:CST
DTSTART:20251102T070000
END:STANDARD
BEGIN:DAYLIGHT
TZOFFSETFROM:-0600
TZOFFSETTO:-0500
TZNAME:CDT
DTSTART:20260308T080000
END:DAYLIGHT
BEGIN:STANDARD
TZOFFSETFROM:-0500
TZOFFSETTO:-0600
TZNAME:CST
DTSTART:20261101T070000
END:STANDARD
BEGIN:DAYLIGHT
TZOFFSETFROM:-0600
TZOFFSETTO:-0500
TZNAME:CDT
DTSTART:20270314T080000
END:DAYLIGHT
BEGIN:STANDARD
TZOFFSETFROM:-0500
TZOFFSETTO:-0600
TZNAME:CST
DTSTART:20271107T070000
END:STANDARD
BEGIN:DAYLIGHT
TZOFFSETFROM:-0600
TZOFFSETTO:-0500
TZNAME:CDT
DTSTART:20280312T080000
END:DAYLIGHT
BEGIN:STANDARD
TZOFFSETFROM:-0500
TZOFFSETTO:-0600
TZNAME:CST
DTSTART:20281105T070000
END:STANDARD
END:VTIMEZONE
BEGIN:VEVENT
DTSTART;TZID=America/Chicago:20261120T150000
DTEND;TZID=America/Chicago:20261122T110000
DTSTAMP:20260421T132951
CREATED:20251219T221534Z
LAST-MODIFIED:20251219T221558Z
UID:2029-1795186800-1795345200@www.mywhisperingoaks.org
SUMMARY:Fall Work and Play / Chili Cook off - 70% off all accommodations for this weekend
DESCRIPTION:Join us for our Fall Work and Play weekend\, Save Some MONEY! 70% off rooms for those that help around camp! Saturday we spend a few hours getting WO ready for the winter months. Discounted Rates for those taking part in Work & Play and if you think you have a prize winning recipe\, be a part of our Saturday night Chili Cook Off! \nSuggested Attire: Work Clothing / Gloves
URL:https://www.mywhisperingoaks.org/event/fall-work-and-play-chili-cook-off-70-off-all-accommodations-for-this-weekend/
LOCATION:TN
END:VEVENT
BEGIN:VEVENT
DTSTART;TZID=America/Chicago:20261122T150000
DTEND;TZID=America/Chicago:20261129T110000
DTSTAMP:20260421T132951
CREATED:20251219T222245Z
LAST-MODIFIED:20251219T222245Z
UID:2032-1795359600-1795950000@www.mywhisperingoaks.org
SUMMARY:Friendsgiving Friends and Family Week at Whispering Oaks
DESCRIPTION:Make plans now to join us for our FallFriends and Family week and bring your family to the campground! Explore the campground all week long then join us for a weekend of activities with Friday Bingo and the Best of WO Live! on Saturday! Men and Women ages 21 and over welcome! Event is set to all week\, but call the office at 629-210-2100 to book individual dates. \nSuggested Attire: Clothing. Only the Hot tub and Woodshed are clothing optional
URL:https://www.mywhisperingoaks.org/event/friendsgiving-friends-and-family-week-at-whispering-oaks/
LOCATION:Whispering Oaks Campground\, 926 Walker Rd\, Hampshire\, TN\, 38461\, United States
END:VEVENT
BEGIN:VEVENT
DTSTART;TZID=America/Chicago:20261218T150000
DTEND;TZID=America/Chicago:20261220T110000
DTSTAMP:20260421T132951
CREATED:20251219T222635Z
LAST-MODIFIED:20251219T222635Z
UID:2035-1797606000-1797764400@www.mywhisperingoaks.org
SUMMARY:HoliDAZE Celebration Weekend
DESCRIPTION:Celebrate the holidays with our W.O. family with Saturday’s holiday dinner and gift exchange\, followed by a special holiday show presented by the W.O. cast. \nSuggested Attire: Christmas/Ugly Sweaters
URL:https://www.mywhisperingoaks.org/event/holidaze-celebration-weekend/
LOCATION:Whispering Oaks Campground\, 926 Walker Rd\, Hampshire\, TN\, 38461\, United States
END:VEVENT
BEGIN:VEVENT
DTSTART;TZID=America/Chicago:20261231T150000
DTEND;TZID=America/Chicago:20270103T110000
DTSTAMP:20260421T132951
CREATED:20251219T223044Z
LAST-MODIFIED:20251219T223044Z
UID:2038-1798729200-1798974000@www.mywhisperingoaks.org
SUMMARY:New Years Bash - 4 day event
DESCRIPTION:Forget the traffic and the crowds and head to the woods to celebrate NYE at Whispering Oaks. Dinners\, Shows\, Champagne Toast at Midnight\, Fireworks\, and one final party of 2026 as we welcome 2027. \nSuggested Attire: Black\, Silver\, Gold\, Semi-Formal
URL:https://www.mywhisperingoaks.org/event/new-years-bash-4-day-event/
LOCATION:Whispering Oaks Campground\, 926 Walker Rd\, Hampshire\, TN\, 38461\, United States
END:VEVENT
END:VCALENDAR