BEGIN:VCALENDAR
VERSION:2.0
PRODID:-//Whispering Oaks - ECPv6.15.20//NONSGML v1.0//EN
CALSCALE:GREGORIAN
METHOD:PUBLISH
X-WR-CALNAME:Whispering Oaks
X-ORIGINAL-URL:https://www.mywhisperingoaks.org
X-WR-CALDESC:Events for Whispering Oaks
REFRESH-INTERVAL;VALUE=DURATION:PT1H
X-Robots-Tag:noindex
X-PUBLISHED-TTL:PT1H
BEGIN:VTIMEZONE
TZID:America/Chicago
BEGIN:DAYLIGHT
TZOFFSETFROM:-0600
TZOFFSETTO:-0500
TZNAME:CDT
DTSTART:20250309T080000
END:DAYLIGHT
BEGIN:STANDARD
TZOFFSETFROM:-0500
TZOFFSETTO:-0600
TZNAME:CST
DTSTART:20251102T070000
END:STANDARD
BEGIN:DAYLIGHT
TZOFFSETFROM:-0600
TZOFFSETTO:-0500
TZNAME:CDT
DTSTART:20260308T080000
END:DAYLIGHT
BEGIN:STANDARD
TZOFFSETFROM:-0500
TZOFFSETTO:-0600
TZNAME:CST
DTSTART:20261101T070000
END:STANDARD
BEGIN:DAYLIGHT
TZOFFSETFROM:-0600
TZOFFSETTO:-0500
TZNAME:CDT
DTSTART:20270314T080000
END:DAYLIGHT
BEGIN:STANDARD
TZOFFSETFROM:-0500
TZOFFSETTO:-0600
TZNAME:CST
DTSTART:20271107T070000
END:STANDARD
END:VTIMEZONE
BEGIN:VEVENT
DTSTART;TZID=America/Chicago:20260911T150000
DTEND;TZID=America/Chicago:20260913T110000
DTSTAMP:20260422T203514
CREATED:20251219T191600Z
LAST-MODIFIED:20251219T191600Z
UID:1986-1789138800-1789297200@www.mywhisperingoaks.org
SUMMARY:County Fair Weekend at Whispering Oaks
DESCRIPTION:Step right up for old-fashioned fair fun with a campground twist! County Fair Weekend is packed with down-home vibes\, friendly competitions\, and classic fair favorites. Think games\, laughs\, good eats\, and plenty of chances to show off your country charm. Whether you’re here for the fun\, the food\, or just the laid-back fair atmosphere\, it’s a weekend of simple pleasures and big smiles at the campground. \nSuggested Attire: Jeans/Denim/Overalls/Plaid and don’t forget your Straw hat \n 
URL:https://www.mywhisperingoaks.org/event/county-fair-weekend-at-whispering-oaks/
LOCATION:Whispering Oaks Campground\, 926 Walker Rd\, Hampshire\, TN\, 38461\, United States
END:VEVENT
BEGIN:VEVENT
DTSTART;TZID=America/Chicago:20260911T150000
DTEND;TZID=America/Chicago:20260920T110000
DTSTAMP:20260422T203514
CREATED:20251219T192028Z
LAST-MODIFIED:20251219T192028Z
UID:1990-1789138800-1789902000@www.mywhisperingoaks.org
SUMMARY:CMEN Fall event at Whispering Oaks
DESCRIPTION:Join CMEN (Community of Men Enjoying Naturism) for a 10 day retreat at Whispering Oaks. See http://www.cmen.org to register
URL:https://www.mywhisperingoaks.org/event/cmen-fall-event-at-whispering-oaks/
LOCATION:Whispering Oaks Campground\, 926 Walker Rd\, Hampshire\, TN\, 38461\, United States
END:VEVENT
END:VCALENDAR