BEGIN:VCALENDAR
VERSION:2.0
PRODID:-//Whispering Oaks - ECPv6.15.20//NONSGML v1.0//EN
CALSCALE:GREGORIAN
METHOD:PUBLISH
X-WR-CALNAME:Whispering Oaks
X-ORIGINAL-URL:https://www.mywhisperingoaks.org
X-WR-CALDESC:Events for Whispering Oaks
REFRESH-INTERVAL;VALUE=DURATION:PT1H
X-Robots-Tag:noindex
X-PUBLISHED-TTL:PT1H
BEGIN:VTIMEZONE
TZID:America/Chicago
BEGIN:DAYLIGHT
TZOFFSETFROM:-0600
TZOFFSETTO:-0500
TZNAME:CDT
DTSTART:20250309T080000
END:DAYLIGHT
BEGIN:STANDARD
TZOFFSETFROM:-0500
TZOFFSETTO:-0600
TZNAME:CST
DTSTART:20251102T070000
END:STANDARD
BEGIN:DAYLIGHT
TZOFFSETFROM:-0600
TZOFFSETTO:-0500
TZNAME:CDT
DTSTART:20260308T080000
END:DAYLIGHT
BEGIN:STANDARD
TZOFFSETFROM:-0500
TZOFFSETTO:-0600
TZNAME:CST
DTSTART:20261101T070000
END:STANDARD
BEGIN:DAYLIGHT
TZOFFSETFROM:-0600
TZOFFSETTO:-0500
TZNAME:CDT
DTSTART:20270314T080000
END:DAYLIGHT
BEGIN:STANDARD
TZOFFSETFROM:-0500
TZOFFSETTO:-0600
TZNAME:CST
DTSTART:20271107T070000
END:STANDARD
END:VTIMEZONE
BEGIN:VEVENT
DTSTART;TZID=America/Chicago:20260904T150000
DTEND;TZID=America/Chicago:20260907T110000
DTSTAMP:20260422T203509
CREATED:20251219T182510Z
LAST-MODIFIED:20251219T182510Z
UID:1983-1788534000-1788778800@www.mywhisperingoaks.org
SUMMARY:Labor Day 3 Day Blowout at Whispering Oaks
DESCRIPTION:THE BIG FINISH 2026! 3 DAYS OF LABOR DAY \nGO BIG OR GO HOME is the game plan for our BIGGEST weekend of the year! We pull out all the stops as we bring you 3 full days of celebrating the end of the Summer 2026 season! Early Birds can hit the Fireside Underwear and Shot Party on Thursday followed by a weekend of Drag Bingo\, Courtyard games\, Parties by the Pool\, WO LIVE!\, CLUB WO and much much more! Don’t miss out on this holiday weekend BLOW OUT!
URL:https://www.mywhisperingoaks.org/event/labor-day-3-day-blowout-at-whispering-oaks/
LOCATION:Whispering Oaks Campground\, 926 Walker Rd\, Hampshire\, TN\, 38461\, United States
END:VEVENT
END:VCALENDAR