BEGIN:VCALENDAR
VERSION:2.0
PRODID:-//Whispering Oaks - ECPv6.15.20//NONSGML v1.0//EN
CALSCALE:GREGORIAN
METHOD:PUBLISH
X-ORIGINAL-URL:https://www.mywhisperingoaks.org
X-WR-CALDESC:Events for Whispering Oaks
REFRESH-INTERVAL;VALUE=DURATION:PT1H
X-Robots-Tag:noindex
X-PUBLISHED-TTL:PT1H
BEGIN:VTIMEZONE
TZID:America/Chicago
BEGIN:DAYLIGHT
TZOFFSETFROM:-0600
TZOFFSETTO:-0500
TZNAME:CDT
DTSTART:20250309T080000
END:DAYLIGHT
BEGIN:STANDARD
TZOFFSETFROM:-0500
TZOFFSETTO:-0600
TZNAME:CST
DTSTART:20251102T070000
END:STANDARD
BEGIN:DAYLIGHT
TZOFFSETFROM:-0600
TZOFFSETTO:-0500
TZNAME:CDT
DTSTART:20260308T080000
END:DAYLIGHT
BEGIN:STANDARD
TZOFFSETFROM:-0500
TZOFFSETTO:-0600
TZNAME:CST
DTSTART:20261101T070000
END:STANDARD
BEGIN:DAYLIGHT
TZOFFSETFROM:-0600
TZOFFSETTO:-0500
TZNAME:CDT
DTSTART:20270314T080000
END:DAYLIGHT
BEGIN:STANDARD
TZOFFSETFROM:-0500
TZOFFSETTO:-0600
TZNAME:CST
DTSTART:20271107T070000
END:STANDARD
END:VTIMEZONE
BEGIN:VEVENT
DTSTART;TZID=America/Chicago:20260724T150000
DTEND;TZID=America/Chicago:20260726T110000
DTSTAMP:20260422T172557
CREATED:20251219T174412Z
LAST-MODIFIED:20251219T174412Z
UID:1963-1784905200-1785063600@www.mywhisperingoaks.org
SUMMARY:Revenge of the Nerds: Jocks vs Geeks and Gamers Weekend
DESCRIPTION:Are you a JOCK or a GEEK? Join us for a weekend of merged worlds in Revenge of the Nerds: Cocks and Jocks vs Geeks and Gamers. Choose a side and pick a team for games on Saturday\, or video games on the big screen. Enjoy special themed performances and sexy cosplay contest Saturday Night. \nSuggested attire: Jock or Geek wear
URL:https://www.mywhisperingoaks.org/event/revenge-of-the-nerds-jocks-vs-geeks-and-gamers-weekend/
LOCATION:Whispering Oaks Campground\, 926 Walker Rd\, Hampshire\, TN\, 38461\, United States
END:VEVENT
END:VCALENDAR