BEGIN:VCALENDAR
VERSION:2.0
PRODID:-//Whispering Oaks - ECPv6.15.20//NONSGML v1.0//EN
CALSCALE:GREGORIAN
METHOD:PUBLISH
X-ORIGINAL-URL:https://www.mywhisperingoaks.org
X-WR-CALDESC:Events for Whispering Oaks
REFRESH-INTERVAL;VALUE=DURATION:PT1H
X-Robots-Tag:noindex
X-PUBLISHED-TTL:PT1H
BEGIN:VTIMEZONE
TZID:America/Chicago
BEGIN:DAYLIGHT
TZOFFSETFROM:-0600
TZOFFSETTO:-0500
TZNAME:CDT
DTSTART:20250309T080000
END:DAYLIGHT
BEGIN:STANDARD
TZOFFSETFROM:-0500
TZOFFSETTO:-0600
TZNAME:CST
DTSTART:20251102T070000
END:STANDARD
BEGIN:DAYLIGHT
TZOFFSETFROM:-0600
TZOFFSETTO:-0500
TZNAME:CDT
DTSTART:20260308T080000
END:DAYLIGHT
BEGIN:STANDARD
TZOFFSETFROM:-0500
TZOFFSETTO:-0600
TZNAME:CST
DTSTART:20261101T070000
END:STANDARD
BEGIN:DAYLIGHT
TZOFFSETFROM:-0600
TZOFFSETTO:-0500
TZNAME:CDT
DTSTART:20270314T080000
END:DAYLIGHT
BEGIN:STANDARD
TZOFFSETFROM:-0500
TZOFFSETTO:-0600
TZNAME:CST
DTSTART:20271107T070000
END:STANDARD
END:VTIMEZONE
BEGIN:VEVENT
DTSTART;TZID=America/Chicago:20260619T150000
DTEND;TZID=America/Chicago:20260621T110000
DTSTAMP:20260422T153301
CREATED:20251218T200618Z
LAST-MODIFIED:20251218T200618Z
UID:1946-1781881200-1782039600@www.mywhisperingoaks.org
SUMMARY:PRIDE in the Woods
DESCRIPTION:Celebrate PRIDE month in the woods in one of our biggest events of the Summer Season! With Special Guest performers joining the cast of WO Live!\, DJ’s poolside and afterparties long in to the night\, it’s a weekend full of PRIDE Fun! Join a group that will be going to an easy 3 mile naked Summer Solstice Hike on a trail along the Natchez Trace Sunday 6/21. Reserve now because accommodations go quickly! \nSuggested Attire: Rainbow Colors
URL:https://www.mywhisperingoaks.org/event/pride-in-the-woods/
LOCATION:Whispering Oaks Campground\, 926 Walker Rd\, Hampshire\, TN\, 38461\, United States
END:VEVENT
END:VCALENDAR