BEGIN:VCALENDAR
VERSION:2.0
PRODID:-//Whispering Oaks - ECPv6.15.20//NONSGML v1.0//EN
CALSCALE:GREGORIAN
METHOD:PUBLISH
X-ORIGINAL-URL:https://www.mywhisperingoaks.org
X-WR-CALDESC:Events for Whispering Oaks
REFRESH-INTERVAL;VALUE=DURATION:PT1H
X-Robots-Tag:noindex
X-PUBLISHED-TTL:PT1H
BEGIN:VTIMEZONE
TZID:America/Chicago
BEGIN:DAYLIGHT
TZOFFSETFROM:-0600
TZOFFSETTO:-0500
TZNAME:CDT
DTSTART:20250309T080000
END:DAYLIGHT
BEGIN:STANDARD
TZOFFSETFROM:-0500
TZOFFSETTO:-0600
TZNAME:CST
DTSTART:20251102T070000
END:STANDARD
BEGIN:DAYLIGHT
TZOFFSETFROM:-0600
TZOFFSETTO:-0500
TZNAME:CDT
DTSTART:20260308T080000
END:DAYLIGHT
BEGIN:STANDARD
TZOFFSETFROM:-0500
TZOFFSETTO:-0600
TZNAME:CST
DTSTART:20261101T070000
END:STANDARD
BEGIN:DAYLIGHT
TZOFFSETFROM:-0600
TZOFFSETTO:-0500
TZNAME:CDT
DTSTART:20270314T080000
END:DAYLIGHT
BEGIN:STANDARD
TZOFFSETFROM:-0500
TZOFFSETTO:-0600
TZNAME:CST
DTSTART:20271107T070000
END:STANDARD
END:VTIMEZONE
BEGIN:VEVENT
DTSTART;TZID=America/Chicago:20260529T150000
DTEND;TZID=America/Chicago:20260531T110000
DTSTAMP:20260422T104412
CREATED:20251218T195532Z
LAST-MODIFIED:20251218T195649Z
UID:1935-1780066800-1780225200@www.mywhisperingoaks.org
SUMMARY:60's/70's/80's REWIND Weekend hosted by CMEN
DESCRIPTION:Get ready to groove through the decades! From peace\, love\, and tie-dye to disco fever and big hair vibes\, we’re turning back the clock for a weekend packed with throwback music\, retro fun\, and nonstop good times. Dress up in your favorite decade\, hit the dance floor\, and relive the sounds\, styles\, and sass of the 60’s\, 70’s\, and 80’s. Whether you’re a flower child\, disco diva\, or rock-star rebel—this is your time to shine! \nSuggested Attire: 60’s/70’s/80’s clothing.
URL:https://www.mywhisperingoaks.org/event/60s-70s-80s-rewind-weekend-hosted-by-cmen/
LOCATION:Whispering Oaks Campground\, 926 Walker Rd\, Hampshire\, TN\, 38461\, United States
END:VEVENT
BEGIN:VEVENT
DTSTART;TZID=America/Chicago:20260529T150000
DTEND;TZID=America/Chicago:20260607T110000
DTSTAMP:20260422T104412
CREATED:20251218T193208Z
LAST-MODIFIED:20251218T193208Z
UID:1929-1780066800-1780830000@www.mywhisperingoaks.org
SUMMARY:CMEN Spring Event at Whispering Oaks
DESCRIPTION:Join CMEN (Community of Men Enjoying Naturism) for a week long retreat at Whispering Oaks. See http://www.cmen.org to register
URL:https://www.mywhisperingoaks.org/event/cmen-spring-event-at-whispering-oaks/
LOCATION:Whispering Oaks Campground\, 926 Walker Rd\, Hampshire\, TN\, 38461\, United States
END:VEVENT
END:VCALENDAR